BEGIN:VCALENDAR
VERSION:2.0
PRODID:-//Library Market//iCal Export//EN
BEGIN:VEVENT
SUMMARY:Reserved for Pending Programming
UID:4428
DTSTAMP:20260423T224700Z
DTSTART:20260926T160000Z
DTEND:20260926T173000Z
LOCATION:19 East Church St, Milan, OH 44846, United States
ROOM: Olak Community Room
DESCRIPTION:
URL:https://milanberlin.librarycalendar.com/event/reserved-pending-program
 ming-4428
END:VEVENT
END:VCALENDAR
