BEGIN:VCALENDAR
VERSION:2.0
PRODID:-//Library Market//iCal Export//EN
BEGIN:VEVENT
SUMMARY:Author Talks: Mark Strecker [A]
UID:4406
DTSTAMP:20260422T084700Z
DTSTART:20260812T223000Z
DTEND:20260812T233000Z
LOCATION:4 East Main St, Berlin Heights, OH 44814, United States
ROOM: Hinman Community Room
DESCRIPTION:Join Norwalk resident Mark Strecker with his latest book relea
 se, The Great Railroad Strike in Ohio. An economic depression starting wit
 h the Panic of 1873 made life for railroad workers go from poor to intoler
 able. By July 1877, they could take it no more—and so began the Great Ra
 ilroad Strike. It’s a story that includes Sandusky native Jay Cooke, a m
 oral panic over the thousands of men who took to the road looking for work
  who were labeled “tramps,” and greedy railroad executives.Award-winni
 ng author Mark Strecker has wanted to be a writer since he first learned t
 o read. He graduated from Bowling Green State University with a bachelor o
 f arts degree in history in 1994 and a master’s degree in library scienc
 e from Clarion University in 2008, earning the latter to give him the skil
 ls needed to write well-researched narrative history. A lifelong resident 
 of Ohio, his greatest passions are history (no surprise there), travel, re
 ading, and comic book collecting. On his website, www.markstrecker.com, in
  addition to articles, he posts travel logs about the various historic sit
 es and museums he’s visited, most of which are in the Buckeye State.
URL:https://milanberlin.librarycalendar.com/event/author-talks-mark-streck
 er-4406
END:VEVENT
END:VCALENDAR
